BEGIN:VCALENDAR
VERSION:2.0
CALSCALE:GREGORIAN
PRODID:-//Diputació de Barcelona//DibaCMS//EN
BEGIN:VEVENT
UID:27595
DTSTAMP:20260423T101550
DTSTART:20240220T193000
DTEND:20240220T193000
SUMMARY:Acte. Inauguració exposició de Rosario Chincha 
LOCATION: pl. de l'Església, 12       08110 Montcada i Reixac
METHOD:PUBLISH
X-WR-CALNAME:oac@montcada.org
X-WR-TIMEZONE:Europe/Madrid
DESCRIPTION:
URI:https://www.montcada.cat/ajuntament/govern/agenda-politica/hemeroteca-agenda-politica/acte-inauguracio-exposicio-de-rosario-chincha-.html
CLASS:PUBLIC
END:VEVENT
END:VCALENDAR
