BEGIN:VCALENDAR
VERSION:2.0
CALSCALE:GREGORIAN
PRODID:-//Diputació de Barcelona//DibaCMS//EN
BEGIN:VEVENT
UID:27590
DTSTAMP:20260423T180400
DTSTART:20240213T113000
DTEND:20240213T113000
SUMMARY:Reunió. Alcaldies Santa Coloma - Badalona - Sant Adrià - Barcelona - Montcada
LOCATION:Ajuntament de Santa Coloma de Gramenet 
METHOD:PUBLISH
X-WR-CALNAME:oac@montcada.org
X-WR-TIMEZONE:Europe/Madrid
DESCRIPTION:Tema: seguretat

URI:https://www.montcada.cat/ajuntament/govern/agenda-politica/hemeroteca-agenda-politica/reunio-alcaldies-santa-coloma-badalona-sant-adria-barcelona-montcada.html
CLASS:PUBLIC
END:VEVENT
END:VCALENDAR
