BEGIN:VCALENDAR
VERSION:2.0
CALSCALE:GREGORIAN
PRODID:-//Diputació de Barcelona//DibaCMS//EN
BEGIN:VEVENT
UID:27585
DTSTAMP:20260424T061213
DTSTART:20240201T180000
DTEND:20240201T180000
SUMMARY:Reunió informativa. Proposta desdoblament R3
LOCATION:Carrer Major, 32 - Carrer Domènec Fins, 15 08110 Montcada i Reixac
METHOD:PUBLISH
X-WR-CALNAME:oac@montcada.org
X-WR-TIMEZONE:Europe/Madrid
DESCRIPTION:Tram: Montcada i Reixac - Mollet del Vallès

URI:https://www.montcada.cat/actualitat/agenda/reunio-informativa-proposta-desdoblament-r3.html
CLASS:PUBLIC
END:VEVENT
END:VCALENDAR
