BEGIN:VCALENDAR
VERSION:2.0
CALSCALE:GREGORIAN
PRODID:-//Diputació de Barcelona//DibaCMS//EN
BEGIN:VEVENT
UID:27582
DTSTAMP:20260423T205106
DTSTART:20240130T093000
DTEND:20240130T093000
SUMMARY:Reunió. Comissió Tècnica per a la gestió del Barraquisme a la llera del riu Besòs
LOCATION:Av. de la Unitat, 6 08110  Montcada i Reixac
METHOD:PUBLISH
X-WR-CALNAME:oac@montcada.org
X-WR-TIMEZONE:Europe/Madrid
DESCRIPTION:
URI:https://www.montcada.cat/ajuntament/govern/agenda-politica/hemeroteca-agenda-politica/27582-reunio-comissio-tecnica-per-a-la-gestio-del-barraquisme-a-la-llera-del-riu-besos.html
CLASS:PUBLIC
END:VEVENT
END:VCALENDAR
