BEGIN:VCALENDAR
VERSION:2.0
CALSCALE:GREGORIAN
PRODID:-//Diputació de Barcelona//DibaCMS//EN
BEGIN:VEVENT
UID:27570
DTSTAMP:20260424T010322
DTSTART:20240131T160000
DTEND:20240131T160000
SUMMARY:Reunió. Assemblees ordinària i extraordinària AMAP
LOCATION:Aigües del Prat (pl. de l’Aigua 1, El Prat de Llobregat) 
METHOD:PUBLISH
X-WR-CALNAME:oac@montcada.org
X-WR-TIMEZONE:Europe/Madrid
DESCRIPTION:
URI:https://www.montcada.cat/ajuntament/govern/agenda-politica/hemeroteca-agenda-politica/reunio-assemblees-ordinaria-i-extraordinaria-amap.html
CLASS:PUBLIC
END:VEVENT
END:VCALENDAR
