BEGIN:VCALENDAR
VERSION:2.0
CALSCALE:GREGORIAN
PRODID:-//Diputació de Barcelona//DibaCMS//EN
BEGIN:VEVENT
UID:27557
DTSTAMP:20260424T031452
DTSTART:20240209T110000
DTEND:20240209T110000
SUMMARY:Visita. Empresa Rajapack
LOCATION:
METHOD:PUBLISH
X-WR-CALNAME:oac@montcada.org
X-WR-TIMEZONE:Europe/Madrid
DESCRIPTION:
URI:https://www.montcada.cat/ajuntament/govern/agenda-politica/hemeroteca-agenda-politica/visita-empresa-rajapack.html
CLASS:PUBLIC
END:VEVENT
END:VCALENDAR
