BEGIN:VCALENDAR
VERSION:2.0
CALSCALE:GREGORIAN
PRODID:-//Diputació de Barcelona//DibaCMS//EN
BEGIN:VEVENT
UID:27556
DTSTAMP:20260423T181214
DTSTART:20240206T163000
DTEND:20240206T163000
SUMMARY:Reunió. Rafael Güeto, president per a la Gestió de Residus del Vallès Occidental
LOCATION:Av. de la Unitat, 6 08110  Montcada i Reixac
METHOD:PUBLISH
X-WR-CALNAME:oac@montcada.org
X-WR-TIMEZONE:Europe/Madrid
DESCRIPTION:
URI:https://www.montcada.cat/ajuntament/govern/agenda-politica/hemeroteca-agenda-politica/reunio-rafael-gueto-president-per-a-la-gestio-de-residus-del-valles-occidental.html
CLASS:PUBLIC
END:VEVENT
END:VCALENDAR
