BEGIN:VCALENDAR
VERSION:2.0
CALSCALE:GREGORIAN
PRODID:-//Diputació de Barcelona//DibaCMS//EN
BEGIN:VEVENT
UID:27555
DTSTAMP:20260423T205313
DTSTART:20240129T110000
DTEND:20240129T110000
SUMMARY:Reunió. Nova marca de ciutat
LOCATION:Av. de la Unitat, 6 08110  Montcada i Reixac
METHOD:PUBLISH
X-WR-CALNAME:oac@montcada.org
X-WR-TIMEZONE:Europe/Madrid
DESCRIPTION:
URI:https://www.montcada.cat/ajuntament/govern/agenda-politica/hemeroteca-agenda-politica/reunio-nova-marca-de-ciutat.html
CLASS:PUBLIC
END:VEVENT
END:VCALENDAR
