BEGIN:VCALENDAR
VERSION:2.0
CALSCALE:GREGORIAN
PRODID:-//Diputació de Barcelona//DibaCMS//EN
BEGIN:VEVENT
UID:27471
DTSTAMP:20260421T140227
DTSTART:20240118T190000
DTEND:20240118T190000
SUMMARY:Conferència. Els secrets que amaga la lluna
LOCATION:Parc Salvador Allende, s/n 08110 Montcada i Reixac
METHOD:PUBLISH
X-WR-CALNAME:oac@montcada.org
X-WR-TIMEZONE:Europe/Madrid
DESCRIPTION:A càrrec de Marina Martínez

URI:https://www.montcada.cat/actualitat/agenda/conferencia-els-secrets-que-amaga-la-lluna.html
CLASS:PUBLIC
END:VEVENT
END:VCALENDAR
