BEGIN:VCALENDAR
VERSION:2.0
CALSCALE:GREGORIAN
PRODID:-//Diputació de Barcelona//DibaCMS//EN
BEGIN:VEVENT
UID:27445
DTSTAMP:20260424T021620
DTSTART:20240122T130000
DTEND:20240122T130000
SUMMARY:Reunió. Jordi Armengol, director de l'AIS Barcelona Nord
LOCATION:Carrer Jaume I, 1   08110 Montcada i Reixac
METHOD:PUBLISH
X-WR-CALNAME:oac@montcada.org
X-WR-TIMEZONE:Europe/Madrid
DESCRIPTION:
URI:https://www.montcada.cat/ajuntament/govern/agenda-politica/hemeroteca-agenda-politica/reunio-jordi-armengol-director-de-lais-barcelona-nord.html
CLASS:PUBLIC
END:VEVENT
END:VCALENDAR
