BEGIN:VCALENDAR
VERSION:2.0
CALSCALE:GREGORIAN
PRODID:-//Diputació de Barcelona//DibaCMS//EN
BEGIN:VEVENT
UID:27386
DTSTAMP:20260419T141416
DTSTART:20240428T090000
DTEND:20240428T090000
SUMMARY:X Cursa MonteScatano
LOCATION:08110 Montcada i Reixac
METHOD:PUBLISH
X-WR-CALNAME:oac@montcada.org
X-WR-TIMEZONE:Europe/Madrid
DESCRIPTION:Inscripcions exhaurides!
Més informació.

URI:https://www.montcada.cat/actualitat/agenda/x-cursa-montescatano.html
CLASS:PUBLIC
END:VEVENT
END:VCALENDAR
