BEGIN:VCALENDAR
VERSION:2.0
CALSCALE:GREGORIAN
PRODID:-//Diputació de Barcelona//DibaCMS//EN
BEGIN:VEVENT
UID:27373
DTSTAMP:20260426T061909
DTSTART:20240526T100000
DTEND:20240526T120000
SUMMARY:Visita a l'església de Reixac
LOCATION:Carretera de la Vallençana, km 7  08110 Montcada i Reixac
METHOD:PUBLISH
X-WR-CALNAME:oac@montcada.org
X-WR-TIMEZONE:Europe/Madrid
DESCRIPTION:Portes obertes, de 10 a 12 h. Visita guiada, a les 11 h

URI:https://www.montcada.cat/actualitat/agenda/27373-visita-a-lesglesia-de-reixac.html
CLASS:PUBLIC
END:VEVENT
END:VCALENDAR
