BEGIN:VCALENDAR
VERSION:2.0
CALSCALE:GREGORIAN
PRODID:-//Diputació de Barcelona//DibaCMS//EN
BEGIN:VEVENT
UID:27350
DTSTAMP:20260423T192936
DTSTART:20240129T180000
DTEND:20240129T180000
SUMMARY:Reunió. Associació Cultural Colla Mitjana dels Gegants de Montcada i Reixac
LOCATION:Av. de la Unitat, 6 08110  Montcada i Reixac
METHOD:PUBLISH
X-WR-CALNAME:oac@montcada.org
X-WR-TIMEZONE:Europe/Madrid
DESCRIPTION:
URI:https://www.montcada.cat/ajuntament/govern/agenda-politica/hemeroteca-agenda-politica/reunio-associacio-cultural-colla-mitjana-dels-gegants-de-montcada-i-reixac.html
CLASS:PUBLIC
END:VEVENT
END:VCALENDAR
