BEGIN:VCALENDAR
VERSION:2.0
CALSCALE:GREGORIAN
PRODID:-//Diputació de Barcelona//DibaCMS//EN
BEGIN:VEVENT
UID:27335
DTSTAMP:20260423T192658
DTSTART:20240205T190000
DTEND:20240205T190000
SUMMARY:Reunió. AVV Can Cuiàs
LOCATION:Carrer Camèlies, 50       08110 Montcada i Reixac
METHOD:PUBLISH
X-WR-CALNAME:oac@montcada.org
X-WR-TIMEZONE:Europe/Madrid
DESCRIPTION:
URI:https://www.montcada.cat/ajuntament/govern/agenda-politica/hemeroteca-agenda-politica/reunio-avv-can-cuias.html
CLASS:PUBLIC
END:VEVENT
END:VCALENDAR
