BEGIN:VCALENDAR
VERSION:2.0
CALSCALE:GREGORIAN
PRODID:-//Diputació de Barcelona//DibaCMS//EN
BEGIN:VEVENT
UID:27319
DTSTAMP:20260423T205416
DTSTART:20240103T173000
DTEND:20240103T173000
SUMMARY:Acte. Viu el Nadal a la Ribera
LOCATION:plaça de la ribera, 0 08110 Montcada i Reixac
METHOD:PUBLISH
X-WR-CALNAME:oac@montcada.org
X-WR-TIMEZONE:Europe/Madrid
DESCRIPTION:
URI:https://www.montcada.cat/ajuntament/govern/agenda-politica/hemeroteca-agenda-politica/acte-viu-el-nadal-a-la-ribera.html
CLASS:PUBLIC
END:VEVENT
END:VCALENDAR
