BEGIN:VCALENDAR
VERSION:2.0
CALSCALE:GREGORIAN
PRODID:-//Diputació de Barcelona//DibaCMS//EN
BEGIN:VEVENT
UID:27299
DTSTAMP:20260423T232840
DTSTART:20240112T093000
DTEND:20240112T093000
SUMMARY:Reunió. Xavier Marcé, regidor de districte Nou Barris
LOCATION:Seu del Districte, plaça Major de Nou Barris, 1 
METHOD:PUBLISH
X-WR-CALNAME:oac@montcada.org
X-WR-TIMEZONE:Europe/Madrid
DESCRIPTION:
URI:https://www.montcada.cat/ajuntament/govern/agenda-politica/hemeroteca-agenda-politica/reunio-xavier-marce-regidor-de-districte-nou-barris.html
CLASS:PUBLIC
END:VEVENT
END:VCALENDAR
