BEGIN:VCALENDAR
VERSION:2.0
CALSCALE:GREGORIAN
PRODID:-//Diputació de Barcelona//DibaCMS//EN
BEGIN:VEVENT
UID:27296
DTSTAMP:20260424T060404
DTSTART:20231229T100000
DTEND:20231229T100000
SUMMARY:Acte. Benvinguda treballadors/es plans d'ocupació
LOCATION:Carrer Alt de Sant Pere, 73       08110 Montcada i Reixac
METHOD:PUBLISH
X-WR-CALNAME:oac@montcada.org
X-WR-TIMEZONE:Europe/Madrid
DESCRIPTION:
URI:https://www.montcada.cat/ajuntament/govern/agenda-politica/hemeroteca-agenda-politica/acte-benvinguda-treballadorses-plans-docupacio.html
CLASS:PUBLIC
END:VEVENT
END:VCALENDAR
