BEGIN:VCALENDAR
VERSION:2.0
CALSCALE:GREGORIAN
PRODID:-//Diputació de Barcelona//DibaCMS//EN
BEGIN:VEVENT
UID:27282
DTSTAMP:20260424T033126
DTSTART:20231223T170000
DTEND:20231223T170000
SUMMARY:Acte. Pare Noel i Tió
LOCATION:Avinguda Catalunya, 16-18       08110 Montcada i Reixac
METHOD:PUBLISH
X-WR-CALNAME:oac@montcada.org
X-WR-TIMEZONE:Europe/Madrid
DESCRIPTION:
URI:https://www.montcada.cat/ajuntament/govern/agenda-politica/hemeroteca-agenda-politica/acte-pare-noel-i-tio.html
CLASS:PUBLIC
END:VEVENT
END:VCALENDAR
