BEGIN:VCALENDAR
VERSION:2.0
CALSCALE:GREGORIAN
PRODID:-//Diputació de Barcelona//DibaCMS//EN
BEGIN:VEVENT
UID:27278
DTSTAMP:20260424T060519
DTSTART:20240105T160000
DTEND:20240105T210000
SUMMARY:Acte. Cavalcada de Reis 2024
LOCATION:
METHOD:PUBLISH
X-WR-CALNAME:oac@montcada.org
X-WR-TIMEZONE:Europe/Madrid
DESCRIPTION:
URI:https://www.montcada.cat/ajuntament/govern/agenda-politica/hemeroteca-agenda-politica/acte-cavalcada-de-reis-2024.html
CLASS:PUBLIC
END:VEVENT
END:VCALENDAR
