BEGIN:VCALENDAR
VERSION:2.0
CALSCALE:GREGORIAN
PRODID:-//Diputació de Barcelona//DibaCMS//EN
BEGIN:VEVENT
UID:27269
DTSTAMP:20260421T230644
DTSTART:20240130T170000
DTEND:20240218T140000
SUMMARY:Exposició. 'Compilació | Collages |'
LOCATION: pl. de l'Església, 12       08110 Montcada i Reixac
METHOD:PUBLISH
X-WR-CALNAME:oac@montcada.org
X-WR-TIMEZONE:Europe/Madrid
DESCRIPTION:D'Anna Sorribas Cervantes

URI:https://www.montcada.cat/actualitat/agenda/exposicio-compilacio--collages-.html
CLASS:PUBLIC
END:VEVENT
END:VCALENDAR
