BEGIN:VCALENDAR
VERSION:2.0
CALSCALE:GREGORIAN
PRODID:-//Diputació de Barcelona//DibaCMS//EN
BEGIN:VEVENT
UID:27251
DTSTAMP:20260424T032545
DTSTART:20231222T173000
DTEND:20231222T173000
SUMMARY:Acte. Actuació Grup Playback Associació Gent Gran Parc Salvador Allende
LOCATION:Parc Salvador Allende, s/n 08110 Montcada i Reixac
METHOD:PUBLISH
X-WR-CALNAME:oac@montcada.org
X-WR-TIMEZONE:Europe/Madrid
DESCRIPTION:
URI:https://www.montcada.cat/ajuntament/govern/agenda-politica/hemeroteca-agenda-politica/acte-actuacio-grup-playback-associacio-gent-gran-parc-salvador-allende.html
CLASS:PUBLIC
END:VEVENT
END:VCALENDAR
