BEGIN:VCALENDAR
VERSION:2.0
CALSCALE:GREGORIAN
PRODID:-//Diputació de Barcelona//DibaCMS//EN
BEGIN:VEVENT
UID:27242
DTSTAMP:20260424T010514
DTSTART:20231221T090000
DTEND:20231221T090000
SUMMARY:Roda de premsa. Presentació prèvia inauguració passeig fluvial la Ribera
LOCATION:Passeig de la Ribera 
METHOD:PUBLISH
X-WR-CALNAME:oac@montcada.org
X-WR-TIMEZONE:Europe/Madrid
DESCRIPTION:
URI:https://www.montcada.cat/ajuntament/govern/agenda-politica/hemeroteca-agenda-politica/roda-de-premsa-presentacio-previa-inauguracio-passeig-fluvial-la-ribera.html
CLASS:PUBLIC
END:VEVENT
END:VCALENDAR
