BEGIN:VCALENDAR
VERSION:2.0
CALSCALE:GREGORIAN
PRODID:-//Diputació de Barcelona//DibaCMS//EN
BEGIN:VEVENT
UID:27241
DTSTAMP:20260423T221107
DTSTART:20231219T133000
DTEND:20231219T133000
SUMMARY:Reunió. Junta General Extraordinaria de Transports i Junta General Extraordinaria de Ferrocarril Metropolità 
LOCATION:Àrea Metropolitana de Barcelona 
METHOD:PUBLISH
X-WR-CALNAME:oac@montcada.org
X-WR-TIMEZONE:Europe/Madrid
DESCRIPTION:
URI:https://www.montcada.cat/ajuntament/govern/agenda-politica/hemeroteca-agenda-politica/reunio-junta-general-extraordinaria-de-transports-i-junta-general-extraordinaria-de-ferrocarril-metropolita-.html
CLASS:PUBLIC
END:VEVENT
END:VCALENDAR
