BEGIN:VCALENDAR
VERSION:2.0
CALSCALE:GREGORIAN
PRODID:-//Diputació de Barcelona//DibaCMS//EN
BEGIN:VEVENT
UID:27141
DTSTAMP:20260423T205930
DTSTART:20231216T193000
DTEND:20231216T193000
SUMMARY:Acte. Premi literari narrativa
LOCATION:Carrer Colon, 5       08110 Montcada i Reixac
METHOD:PUBLISH
X-WR-CALNAME:oac@montcada.org
X-WR-TIMEZONE:Europe/Madrid
DESCRIPTION:
URI:https://www.montcada.cat/ajuntament/govern/agenda-politica/hemeroteca-agenda-politica/acte-premi-literari-narrativa.html
CLASS:PUBLIC
END:VEVENT
END:VCALENDAR
