BEGIN:VCALENDAR
VERSION:2.0
CALSCALE:GREGORIAN
PRODID:-//Diputació de Barcelona//DibaCMS//EN
BEGIN:VEVENT
UID:27124
DTSTAMP:20260423T205650
DTSTART:20231221T183000
DTEND:20231221T183000
SUMMARY:Ple ordinari desembre i extraordinari pressupost 2024
LOCATION:Carrer Major, 32 - Carrer Domènec Fins, 15 08110 Montcada i Reixac
METHOD:PUBLISH
X-WR-CALNAME:oac@montcada.org
X-WR-TIMEZONE:Europe/Madrid
DESCRIPTION:
URI:https://www.montcada.cat/ajuntament/govern/agenda-politica/hemeroteca-agenda-politica/ple-ordinari-desembre-i-extraordinari-pressupost-2024.html
CLASS:PUBLIC
END:VEVENT
END:VCALENDAR
