BEGIN:VCALENDAR
VERSION:2.0
CALSCALE:GREGORIAN
PRODID:-//Diputació de Barcelona//DibaCMS//EN
BEGIN:VEVENT
UID:27106
DTSTAMP:20260421T150316
DTSTART:20240421T180000
DTEND:20240421T180000
SUMMARY:Teatre. 'Per fi sol!'
LOCATION:Carrer Tarragona, 32       08110 Montcada i Reixac
METHOD:PUBLISH
X-WR-CALNAME:oac@montcada.org
X-WR-TIMEZONE:Europe/Madrid
DESCRIPTION:Carles Sans

URI:https://www.montcada.cat/actualitat/agenda/teatre-per-fi-sol.html
CLASS:PUBLIC
END:VEVENT
END:VCALENDAR
