BEGIN:VCALENDAR
VERSION:2.0
CALSCALE:GREGORIAN
PRODID:-//Diputació de Barcelona//DibaCMS//EN
BEGIN:VEVENT
UID:27104
DTSTAMP:20260421T163809
DTSTART:20240407T120000
DTEND:20240407T120000
SUMMARY:Dansa. 'La gata que volia canviar la història'
LOCATION:Carrer Tarragona, 32       08110 Montcada i Reixac
METHOD:PUBLISH
X-WR-CALNAME:oac@montcada.org
X-WR-TIMEZONE:Europe/Madrid
DESCRIPTION:Thomas Noone Dance

URI:https://www.montcada.cat/actualitat/agenda/dansa-la-gata-que-volia-canviar-la-historia.html
CLASS:PUBLIC
END:VEVENT
END:VCALENDAR
