BEGIN:VCALENDAR
VERSION:2.0
CALSCALE:GREGORIAN
PRODID:-//Diputació de Barcelona//DibaCMS//EN
BEGIN:VEVENT
UID:27100
DTSTAMP:20260421T185616
DTSTART:20240309T200000
DTEND:20240309T200000
SUMMARY:Teatre. 'Jauría'
LOCATION:Carrer Tarragona, 32       08110 Montcada i Reixac
METHOD:PUBLISH
X-WR-CALNAME:oac@montcada.org
X-WR-TIMEZONE:Europe/Madrid
DESCRIPTION:ENTRADES EXHAURIDES!

URI:https://www.montcada.cat/actualitat/agenda/teatre-jauria.html
CLASS:PUBLIC
END:VEVENT
END:VCALENDAR
