BEGIN:VCALENDAR
VERSION:2.0
CALSCALE:GREGORIAN
PRODID:-//Diputació de Barcelona//DibaCMS//EN
BEGIN:VEVENT
UID:27095
DTSTAMP:20260421T215852
DTSTART:20240126T200000
DTEND:20240126T200000
SUMMARY:Música. Concert de Barcelona Jazz Septet
LOCATION:Carrer Tarragona, 32       08110 Montcada i Reixac
METHOD:PUBLISH
X-WR-CALNAME:oac@montcada.org
X-WR-TIMEZONE:Europe/Madrid
DESCRIPTION:Ramon Fossati trombó i arranjaments, Oriol Vallès trompeta, Irene Reig saxo alt; Gaby Ardèbol saxo tenor, Luismi Segurado piano, Pere Loewe contrabaix, Enrique Heredia bateria.

URI:https://www.montcada.cat/actualitat/agenda/musica-concert-de-barcelona-jazz-septet.html
CLASS:PUBLIC
END:VEVENT
END:VCALENDAR
