BEGIN:VCALENDAR
VERSION:2.0
CALSCALE:GREGORIAN
PRODID:-//Diputació de Barcelona//DibaCMS//EN
BEGIN:VEVENT
UID:27093
DTSTAMP:20260421T231946
DTSTART:20240113T200000
DTEND:20240113T200000
SUMMARY:Teatre. 'Las guerras de nuestros antepasados'
LOCATION:Carrer Tarragona, 32       08110 Montcada i Reixac
METHOD:PUBLISH
X-WR-CALNAME:oac@montcada.org
X-WR-TIMEZONE:Europe/Madrid
DESCRIPTION:Pentación Espectáculos

URI:https://www.montcada.cat/actualitat/agenda/teatre-las-guerras-de-nuestros-antepasados.html
CLASS:PUBLIC
END:VEVENT
END:VCALENDAR
