BEGIN:VCALENDAR
VERSION:2.0
CALSCALE:GREGORIAN
PRODID:-//Diputació de Barcelona//DibaCMS//EN
BEGIN:VEVENT
UID:27089
DTSTAMP:20260423T210551
DTSTART:20231220T111500
DTEND:20231220T111500
SUMMARY:Reunió. Alcaldies La Llagosta - Santa Perpètua - Montcada i Reixac
LOCATION:Passeig de l’Alcalde José Luis López Segura, 2-4, 2a planta - La Llagosta 
METHOD:PUBLISH
X-WR-CALNAME:oac@montcada.org
X-WR-TIMEZONE:Europe/Madrid
DESCRIPTION:
URI:https://www.montcada.cat/ajuntament/govern/agenda-politica/hemeroteca-agenda-politica/reunio-alcaldies-la-llagosta-santa-perpetua-montcada-i-reixac.html
CLASS:PUBLIC
END:VEVENT
END:VCALENDAR
