BEGIN:VCALENDAR
VERSION:2.0
CALSCALE:GREGORIAN
PRODID:-//Diputació de Barcelona//DibaCMS//EN
BEGIN:VEVENT
UID:27082
DTSTAMP:20260424T010529
DTSTART:20231207T082000
DTEND:20231207T082000
SUMMARY:Reunió. Comissió Informativa Extraordinària de l’Àrea Econòmica
LOCATION:
METHOD:PUBLISH
X-WR-CALNAME:oac@montcada.org
X-WR-TIMEZONE:Europe/Madrid
DESCRIPTION:
URI:https://www.montcada.cat/ajuntament/govern/agenda-politica/hemeroteca-agenda-politica/reunio-comissio-informativa-extraordinaria-de-larea-economica.html
CLASS:PUBLIC
END:VEVENT
END:VCALENDAR
