BEGIN:VCALENDAR
VERSION:2.0
CALSCALE:GREGORIAN
PRODID:-//Diputació de Barcelona//DibaCMS//EN
BEGIN:VEVENT
UID:27037
DTSTAMP:20260424T033720
DTSTART:20231204T190000
DTEND:20231204T190000
SUMMARY:Acte. Encesa llum La Unió de Mas Rampinyo
LOCATION:Avinguda Catalunya, 16-18       08110 Montcada i Reixac
METHOD:PUBLISH
X-WR-CALNAME:oac@montcada.org
X-WR-TIMEZONE:Europe/Madrid
DESCRIPTION:
URI:https://www.montcada.cat/ajuntament/govern/agenda-politica/hemeroteca-agenda-politica/acte-encesa-llum-la-unio-de-mas-rampinyo.html
CLASS:PUBLIC
END:VEVENT
END:VCALENDAR
