BEGIN:VCALENDAR
VERSION:2.0
CALSCALE:GREGORIAN
PRODID:-//Diputació de Barcelona//DibaCMS//EN
BEGIN:VEVENT
UID:26966
DTSTAMP:20260423T232735
DTSTART:20231216T140000
DTEND:20231216T140000
SUMMARY:Acte. Dinar de Nadal
LOCATION:Avinguda de la Unitat, s/n 08110 Montcada i Reixac
METHOD:PUBLISH
X-WR-CALNAME:oac@montcada.org
X-WR-TIMEZONE:Europe/Madrid
DESCRIPTION:
URI:https://www.montcada.cat/ajuntament/govern/agenda-politica/hemeroteca-agenda-politica/acte-dinar-de-nadal.html
CLASS:PUBLIC
END:VEVENT
END:VCALENDAR
