BEGIN:VCALENDAR
VERSION:2.0
CALSCALE:GREGORIAN
PRODID:-//Diputació de Barcelona//DibaCMS//EN
BEGIN:VEVENT
UID:26964
DTSTAMP:20260424T005116
DTSTART:20231216T090000
DTEND:20231216T090000
SUMMARY:Acte. Caminada a Reixac
LOCATION:Plaça Lluís Companys 08110 Montcada i Reixac
METHOD:PUBLISH
X-WR-CALNAME:oac@montcada.org
X-WR-TIMEZONE:Europe/Madrid
DESCRIPTION:
URI:https://www.montcada.cat/ajuntament/govern/agenda-politica/hemeroteca-agenda-politica/acte-caminada-a-reixac.html
CLASS:PUBLIC
END:VEVENT
END:VCALENDAR
