BEGIN:VCALENDAR
VERSION:2.0
CALSCALE:GREGORIAN
PRODID:-//Diputació de Barcelona//DibaCMS//EN
BEGIN:VEVENT
UID:26961
DTSTAMP:20260424T021558
DTSTART:20231214T170000
DTEND:20231214T170000
SUMMARY:Acte. Encesa pessebre i homenatge avis 90 anys
LOCATION:Avinguda de la Unitat, s/n 08110 Montcada i Reixac
METHOD:PUBLISH
X-WR-CALNAME:oac@montcada.org
X-WR-TIMEZONE:Europe/Madrid
DESCRIPTION:
URI:https://www.montcada.cat/ajuntament/govern/agenda-politica/hemeroteca-agenda-politica/acte-encesa-pessebre-i-homenatge-avis-90-anys.html
CLASS:PUBLIC
END:VEVENT
END:VCALENDAR
