BEGIN:VCALENDAR
VERSION:2.0
CALSCALE:GREGORIAN
PRODID:-//Diputació de Barcelona//DibaCMS//EN
BEGIN:VEVENT
UID:26954
DTSTAMP:20260424T021029
DTSTART:20231212T090000
DTEND:20231212T090000
SUMMARY:Reunió. Consell General del Pla Estratègic Metropolità de Barcelona
LOCATION:Auditori Can Roig i Torres de Santa Coloma de Gramenet (c/ Rafael de Casanovas, 5) 
METHOD:PUBLISH
X-WR-CALNAME:oac@montcada.org
X-WR-TIMEZONE:Europe/Madrid
DESCRIPTION:
URI:https://www.montcada.cat/ajuntament/govern/agenda-politica/hemeroteca-agenda-politica/reunio-consell-general-del-pla-estrategic-metropolita-de-barcelona.html
CLASS:PUBLIC
END:VEVENT
END:VCALENDAR
