BEGIN:VCALENDAR
VERSION:2.0
CALSCALE:GREGORIAN
PRODID:-//Diputació de Barcelona//DibaCMS//EN
BEGIN:VEVENT
UID:26953
DTSTAMP:20260424T073336
DTSTART:20231211T130000
DTEND:20231211T130000
SUMMARY:Acte. Lliurament material escolar entitats
LOCATION:Plaça Joanot Martorell 
METHOD:PUBLISH
X-WR-CALNAME:oac@montcada.org
X-WR-TIMEZONE:Europe/Madrid
DESCRIPTION:
URI:https://www.montcada.cat/ajuntament/govern/agenda-politica/hemeroteca-agenda-politica/acte-lliurament-material-escolar-entitats.html
CLASS:PUBLIC
END:VEVENT
END:VCALENDAR
