BEGIN:VCALENDAR
VERSION:2.0
CALSCALE:GREGORIAN
PRODID:-//Diputació de Barcelona//DibaCMS//EN
BEGIN:VEVENT
UID:26952
DTSTAMP:20260424T005026
DTSTART:20231204T130000
DTEND:20231204T130000
SUMMARY:Acte. Benvinguda nous policies locals
LOCATION:Progrés, 29 08110 Montcada i Reixac
METHOD:PUBLISH
X-WR-CALNAME:oac@montcada.org
X-WR-TIMEZONE:Europe/Madrid
DESCRIPTION:
URI:https://www.montcada.cat/ajuntament/govern/agenda-politica/hemeroteca-agenda-politica/acte-benvinguda-nous-policies-locals.html
CLASS:PUBLIC
END:VEVENT
END:VCALENDAR
