BEGIN:VCALENDAR
VERSION:2.0
CALSCALE:GREGORIAN
PRODID:-//Diputació de Barcelona//DibaCMS//EN
BEGIN:VEVENT
UID:26951
DTSTAMP:20260424T093401
DTSTART:20231129T080000
DTEND:20231129T080000
SUMMARY:Reunió. Junta de Portaveus
LOCATION:
METHOD:PUBLISH
X-WR-CALNAME:oac@montcada.org
X-WR-TIMEZONE:Europe/Madrid
DESCRIPTION:
URI:https://www.montcada.cat/ajuntament/govern/agenda-politica/hemeroteca-agenda-politica/26951-reunio-junta-de-portaveus.html
CLASS:PUBLIC
END:VEVENT
END:VCALENDAR
