BEGIN:VCALENDAR
VERSION:2.0
CALSCALE:GREGORIAN
PRODID:-//Diputació de Barcelona//DibaCMS//EN
BEGIN:VEVENT
UID:26873
DTSTAMP:20260424T121343
DTSTART:20231202T173000
DTEND:20231202T173000
SUMMARY:Acte. Presentació entitat Suma't Mir
LOCATION:Avinguda Catalunya, 16-18       08110 Montcada i Reixac
METHOD:PUBLISH
X-WR-CALNAME:oac@montcada.org
X-WR-TIMEZONE:Europe/Madrid
DESCRIPTION:
URI:https://www.montcada.cat/ajuntament/govern/agenda-politica/hemeroteca-agenda-politica/acte-presentacio-entitat-sumat-mir.html
CLASS:PUBLIC
END:VEVENT
END:VCALENDAR
