BEGIN:VCALENDAR
VERSION:2.0
CALSCALE:GREGORIAN
PRODID:-//Diputació de Barcelona//DibaCMS//EN
BEGIN:VEVENT
UID:26854
DTSTAMP:20260424T080241
DTSTART:20231128T163000
DTEND:20231128T163000
SUMMARY:Reunió. Carlos Cordón, alcalde de Cardanyola
LOCATION:Ajuntament de Cerdanyola 
METHOD:PUBLISH
X-WR-CALNAME:oac@montcada.org
X-WR-TIMEZONE:Europe/Madrid
DESCRIPTION:
URI:https://www.montcada.cat/ajuntament/govern/agenda-politica/hemeroteca-agenda-politica/reunio-carlos-cordon-alcalde-de-cardanyola.html
CLASS:PUBLIC
END:VEVENT
END:VCALENDAR
