BEGIN:VCALENDAR
VERSION:2.0
CALSCALE:GREGORIAN
PRODID:-//Diputació de Barcelona//DibaCMS//EN
BEGIN:VEVENT
UID:26790
DTSTAMP:20260424T022246
DTSTART:20231203T103000
DTEND:20231203T103000
SUMMARY:Acte. 1a Fira d'entitats i voluntariat i capacitats diverses
LOCATION:camí de la Font Freda 08110 Montcada i Reixac
METHOD:PUBLISH
X-WR-CALNAME:oac@montcada.org
X-WR-TIMEZONE:Europe/Madrid
DESCRIPTION:
URI:https://www.montcada.cat/ajuntament/govern/agenda-politica/hemeroteca-agenda-politica/acte-1a-fira-dentitats-i-voluntariat-i-capacitats-diverses.html
CLASS:PUBLIC
END:VEVENT
END:VCALENDAR
