BEGIN:VCALENDAR
VERSION:2.0
CALSCALE:GREGORIAN
PRODID:-//Diputació de Barcelona//DibaCMS//EN
BEGIN:VEVENT
UID:26779
DTSTAMP:20260424T044903
DTSTART:20231122T093000
DTEND:20231122T093000
SUMMARY:Reunió. Xavier Albiol, alcalde de Montcada i Reixac
LOCATION:Ajuntament de Badalona 
METHOD:PUBLISH
X-WR-CALNAME:oac@montcada.org
X-WR-TIMEZONE:Europe/Madrid
DESCRIPTION:
URI:https://www.montcada.cat/ajuntament/govern/agenda-politica/hemeroteca-agenda-politica/reunio-xavier-albiol-alcalde-de-montcada-i-reixac.html
CLASS:PUBLIC
END:VEVENT
END:VCALENDAR
