BEGIN:VCALENDAR
VERSION:2.0
CALSCALE:GREGORIAN
PRODID:-//Diputació de Barcelona//DibaCMS//EN
BEGIN:VEVENT
UID:26754
DTSTAMP:20260424T075336
DTSTART:20231121T181500
DTEND:20231121T181500
SUMMARY:Acte. Rebuda comitè URBACT
LOCATION:Museu d'Art de Cerdanyola (C. Sant Martí, 88) 
METHOD:PUBLISH
X-WR-CALNAME:oac@montcada.org
X-WR-TIMEZONE:Europe/Madrid
DESCRIPTION:
URI:https://www.montcada.cat/ajuntament/govern/agenda-politica/hemeroteca-agenda-politica/acte-rebuda-comite-urbact.html
CLASS:PUBLIC
END:VEVENT
END:VCALENDAR
