BEGIN:VCALENDAR
VERSION:2.0
CALSCALE:GREGORIAN
PRODID:-//Diputació de Barcelona//DibaCMS//EN
BEGIN:VEVENT
UID:26744
DTSTAMP:20260424T074733
DTSTART:20231118T103000
DTEND:20231118T103000
SUMMARY:Acte. Dia Internacional Drets dels Infants
LOCATION:08110 Montcada i Reixac
METHOD:PUBLISH
X-WR-CALNAME:oac@montcada.org
X-WR-TIMEZONE:Europe/Madrid
DESCRIPTION:
URI:https://www.montcada.cat/ajuntament/govern/agenda-politica/hemeroteca-agenda-politica/acte-dia-internacional-drets-dels-infants.html
CLASS:PUBLIC
END:VEVENT
END:VCALENDAR
