BEGIN:VCALENDAR
VERSION:2.0
CALSCALE:GREGORIAN
PRODID:-//Diputació de Barcelona//DibaCMS//EN
BEGIN:VEVENT
UID:26742
DTSTAMP:20260424T074937
DTSTART:20231119T183000
DTEND:20231119T183000
SUMMARY:Acte. Partit de futbol sala
LOCATION:Carrer Bonavista, s/n       08110 Montcada i Reixac
METHOD:PUBLISH
X-WR-CALNAME:oac@montcada.org
X-WR-TIMEZONE:Europe/Madrid
DESCRIPTION:AE Can Cuiàs - Marina Pou (sènior femení)

URI:https://www.montcada.cat/ajuntament/govern/agenda-politica/hemeroteca-agenda-politica/26742-acte-partit-de-futbol-sala.html
CLASS:PUBLIC
END:VEVENT
END:VCALENDAR
