BEGIN:VCALENDAR
VERSION:2.0
CALSCALE:GREGORIAN
PRODID:-//Diputació de Barcelona//DibaCMS//EN
BEGIN:VEVENT
UID:26741
DTSTAMP:20260424T121134
DTSTART:20231119T110000
DTEND:20231119T110000
SUMMARY:Acte. Masterclass de Doga 
LOCATION:Avinguda de la Unitat 08110 Montcada i Reixac
METHOD:PUBLISH
X-WR-CALNAME:oac@montcada.org
X-WR-TIMEZONE:Europe/Madrid
DESCRIPTION:
URI:https://www.montcada.cat/ajuntament/govern/agenda-politica/hemeroteca-agenda-politica/acte-masterclass-de-doga-.html
CLASS:PUBLIC
END:VEVENT
END:VCALENDAR
