BEGIN:VCALENDAR
VERSION:2.0
CALSCALE:GREGORIAN
PRODID:-//Diputació de Barcelona//DibaCMS//EN
BEGIN:VEVENT
UID:26739
DTSTAMP:20260424T061316
DTSTART:20231118T173000
DTEND:20231118T173000
SUMMARY:Acte. Partit de futbol
LOCATION:Carrer Font, s/n       08110 Montcada i Reixac
METHOD:PUBLISH
X-WR-CALNAME:oac@montcada.org
X-WR-TIMEZONE:Europe/Madrid
DESCRIPTION:UE Sant Joan - Llefià (sènior masculí 1a Catalana)

URI:https://www.montcada.cat/ajuntament/govern/agenda-politica/hemeroteca-agenda-politica/26739-acte-partit-de-futbol.html
CLASS:PUBLIC
END:VEVENT
END:VCALENDAR
