BEGIN:VCALENDAR
VERSION:2.0
CALSCALE:GREGORIAN
PRODID:-//Diputació de Barcelona//DibaCMS//EN
BEGIN:VEVENT
UID:26693
DTSTAMP:20260424T044205
DTSTART:20231127T120000
DTEND:20231127T120000
SUMMARY:Reunió. Comissió Tècnica per a la Gestió del Barraquisme a la llera del riu Besòs
LOCATION:Consorci del Besòs 
METHOD:PUBLISH
X-WR-CALNAME:oac@montcada.org
X-WR-TIMEZONE:Europe/Madrid
DESCRIPTION:
URI:https://www.montcada.cat/ajuntament/govern/agenda-politica/hemeroteca-agenda-politica/reunio-comissio-tecnica-per-a-la-gestio-del-barraquisme-a-la-llera-del-riu-besos.html
CLASS:PUBLIC
END:VEVENT
END:VCALENDAR
